BEGIN:VCALENDAR
VERSION:2.0
PRODID:-//T.É.R. Központ - Tudatosság - Éberség - Rezonancia - ECPv6.10.3//NONSGML v1.0//EN
CALSCALE:GREGORIAN
METHOD:PUBLISH
X-ORIGINAL-URL:https://www.terben.hu
X-WR-CALDESC:Events for T.É.R. Központ - Tudatosság - Éberség - Rezonancia
REFRESH-INTERVAL;VALUE=DURATION:PT1H
X-Robots-Tag:noindex
X-PUBLISHED-TTL:PT1H
BEGIN:VTIMEZONE
TZID:UTC
BEGIN:STANDARD
TZOFFSETFROM:+0000
TZOFFSETTO:+0000
TZNAME:UTC
DTSTART:20250101T000000
END:STANDARD
END:VTIMEZONE
BEGIN:VEVENT
DTSTART;TZID=UTC:20260331T180000
DTEND;TZID=UTC:20260331T190000
DTSTAMP:20260420T094702
CREATED:20260324T125740Z
LAST-MODIFIED:20260324T130237Z
UID:10000108-1774980000-1774983600@www.terben.hu
SUMMARY:GYEREKEK DIGITÁLIS ESZKÖZHASZNÁLATA
DESCRIPTION:A digitális eszközök a mindennapjaink részei – de hogyan lehetnek valóban a gyermekeink javára? \nSzülőként sokszor kérdés: \n\nMit engedjünk\, mit korlátozzunk?\nHogyan tanítsuk meg a tudatos\, biztonságos használatot?\n\nVárkondi Gábor pszichológus felnőtt csoportfoglalkozásán gyakorlatias\, interaktív párbeszéd mentén\, valós példák segítségével járjuk körbe\, hogyan használhatják gyermekeink a digitális eszközöket úgy\, hogy az valóban az előnyükre váljon. \nIdőpont: március 31. | 18:00\nJegyár: 4.900 Ft\nFizetés a helyszínen (kártyával és készpénzzel is) \nRegisztráció: hello@terben.hu \nEgy este\, ahol nem csak kérdéseket teszünk fel – hanem működő megoldásokat is keresünk.
URL:https://www.terben.hu/program/gyerekek-digitalis-eszkozhasznalata-2/
LOCATION:Tér Központ – Bíbor terem
ATTACH;FMTTYPE=image/png:https://www.terben.hu/wp-content/uploads/2026/03/Varkondi-Gabor-borito-2.png
END:VEVENT
BEGIN:VEVENT
DTSTART;TZID=UTC:20251004T090000
DTEND;TZID=UTC:20251004T170000
DTSTAMP:20260420T094702
CREATED:20250919T131741Z
LAST-MODIFIED:20250919T131823Z
UID:10000065-1759568400-1759597200@www.terben.hu
SUMMARY:A VÁLTÁS – Önismereti tanfolyam Magera Ildikóval
DESCRIPTION:A  VÁLTÁS \nHA VALAMI IDŐBEN ÉRKEZIK AZ TANÍTÁS…. \nHiszel abban\, hogy a gondolataid hatással vannak az életedre és a gondolataid „teremtik” a valóságodat? Átlagosan naponta 60-70 000 gondolatod van. 90%-a ezeknek a gondolatoknak ugyanaz\, mint amit előző nap gondoltál. Ezek az azonos gondolatok mindig ugyanazokhoz a döntésekhez vezetnek. Ugyanazok a döntések ugyanazokat a viselkedéseket eredményezik\, amik ugyanazokat a tapasztalatokat idézik elő\, amik ugyanazokhoz az érzelmekhez és érzésekhez vezetnek\, amik ugyanazokat a gondolatokat váltják ki. Változott egyáltalán valamit  aznap az agyad? \nA kérdés az\, ha belenézel a „tükörbe”\, tetszik az\, amit látsz? Amennyiben „nem” a válaszod\, akkor egyetértesz velem abban\, hogy el kell kezdened azon gondolkodni\, hogy hogyan gondolkodsz?! \n  \n \n  \nMindig is érthetetlen és zavaró volt számomra\, úgy éljük az életet\, hogy alig tudunk valamit a valódi működésünkről. Belekerülünk az életbe és már „csináljuk” is\, ahogyan mástól\, mindenkitől láttuk\, illetve amit a szüleinktől\, környezettől kaptunk tanításként\, tanácsként vagy erőszakkal. \nNem is teszünk fel kérdéseket\, hogy… \nMiért úgy gondolkodok ahogyan?\nMiért azok a szokásaim\, amik?\nMiért viselkedek úgy\, reagálok úgy emberekre\, eseményekre\, magamra stb. ahogyan?\nMiért érzek úgy\, ahogyan?\nMiért teszem\, követem azokat a dolgokat\, amiket? \n  \nAzok jelentkezését várom\,\n– akik nem érzik már igazán jól magukat ebben a valóságban\, új ismereteket\, tudást\, felismeréseket és ebben támogató vezetést keresnek\,\n– illetve akik ugyan jól vannak\, már szert tettek újfajta ismeretekre\, kicsit el is vesztek azokban\, így szükségük lenne egy átfogó rendszerre\, amely segít integrálni a megszerzett ismereteiket. \nModulok  \n1.Modul\nIsmerd meg a robotodat : azt\, hogy ki nem vagy illetve megpillanthasd azt aki valóban Vagy! \n2.Modul\nMit választasz?\nRobotkommunikáció\, ami elválaszt a valódi önmagadtól és másoktól vs. kommunikáció ami visszavezet önmagadhoz és hidat épít mások felé. \n3.Modul\nIsmerd meg a robotod operációs rendszerét\, a tudattalanod rejtelmeit és javitsd azt!\nEmotion és Body code elsajátítása saját használatra. \n4.Modul\nAz energia világát mindenkinek meg kell értenie. Ez az emberlét lényege. \nHely: TÉR Központ\, Nyíregyháza Sóstói út 70. / Bibor terem \nIdőpont :\n1.Modul: Október 4 – én 09órától – 17óráig /Október5 – én 09órától -16óráig \n2.Modul: November 22-én 09órától -17óráig /November 23-án 09órától – 16óráig \n3.Modul: Hamarosan \n4.Modul: Hamarosan \n  \n1.Modul leírása \n \n1.Ismerd meg a robotodat! \n– mindannyian valamilyen feladattal\, programmal érkezünk a földre – isteni program\n– aztán vannak olyan programok amelyek minden emberben ott vannak\, segítik a túlélést – ego program\n– vannak egyéni programok amelyeket a családodtól kaptál\, illetve örökölted korábbi generációktól\n– további programok még a kultúra\, a fennálló világkép programjai. \nMindezeket hitrendszereknek nevezzük\, ami lefordítva annyit jelent\, elhitted ezeket\, anélkül hogy megvizsgáltad volna az „igaz” tartalmukat. Tehát ha azt gondolnád Neked nincs HITED\, akkor jelzem\, hogy de bizony van. \nA programjaink egy része a „túlélést” segíti a földi létünkben\, tehát elengedhetetlenek\, szükségesek.\nA programjainknak egy másik részét a szüleinktől töltöttük le. Ez a terhesség harmadik trimeszterétől kb. 7éves korig történik. Ezek határozzák meg azt\, ahogyan később az embereket\, a környezetet és benne önmagunkat látjuk \nAmikor gondolkodunk\, a tudatos elménk elengedi a kormányt\, befelé megyünk  –  ekkor a tudatalatti vezeti az autót (életünket) de ez a szülők viselkedése ami fel sem tűnik\, hogy miért?\nMert közben gondolkodunk. \nA nap 95%-ban nem a tudatos kreatív elménkkel működtetjük az életünket. A nap 95%.-ban gondolkodunk. Ezért a nap 95%-ban a programok és tudatalatti irányítja az életünket aminek a nagy része nem támogatja  az „eredeti énünk”  vágyait\, kívánságait és ezért küzdünk az életben. \nFELADAT:\n-Mik a programjaid?\n-Vizsgáld meg hogyan\, meddig segítették az életedet\, és hogyan korlátoznak\, akadályoznak jelenleg! \nA tanfolyam díja: 45000Ft/ modulonként\nA modulok tematikájának kiírása a főoldalon található aktualitás szerint. \n  \nA tanfolyam heti bontásban is elérhető keddenként  09órától – 11óráig \nBejelentkezés:\nTelefonszám: 06 30/ 9-631-777\nEmail cím: ildikomagera@gmail.com \n 
URL:https://www.terben.hu/program/2103/
LOCATION:Tér Központ – Bíbor terem
ATTACH;FMTTYPE=image/jpeg:https://www.terben.hu/wp-content/uploads/2025/09/Magera_Ildiko.jpg
END:VEVENT
END:VCALENDAR