BEGIN:VCALENDAR
VERSION:2.0
PRODID:-//T.É.R. Központ - Tudatosság - Éberség - Rezonancia - ECPv6.10.3//NONSGML v1.0//EN
CALSCALE:GREGORIAN
METHOD:PUBLISH
X-WR-CALNAME:T.É.R. Központ - Tudatosság - Éberség - Rezonancia
X-ORIGINAL-URL:https://www.terben.hu
X-WR-CALDESC:Events for T.É.R. Központ - Tudatosság - Éberség - Rezonancia
REFRESH-INTERVAL;VALUE=DURATION:PT1H
X-Robots-Tag:noindex
X-PUBLISHED-TTL:PT1H
BEGIN:VTIMEZONE
TZID:UTC
BEGIN:STANDARD
TZOFFSETFROM:+0000
TZOFFSETTO:+0000
TZNAME:UTC
DTSTART:20250101T000000
END:STANDARD
END:VTIMEZONE
BEGIN:VEVENT
DTSTART;TZID=UTC:20251202T171500
DTEND;TZID=UTC:20251202T191500
DTSTAMP:20260420T093304
CREATED:20250711T132241Z
LAST-MODIFIED:20250711T132336Z
UID:10000047-1764695700-1764702900@www.terben.hu
SUMMARY:AsztroKör - Sivadóné Krisztinával
DESCRIPTION:Mit kapsz az alkalmon?\n\n\nMegbeszéljük az aktuális tranzit energiákat és azok rád gyakorolt hatásait.\nA saját születési képleted alapján megértheted\, hogy milyen állásokra érdemes figyelned\, és ezek milyen életterületekre lehetnek hatással.\nKérdezhetsz\, jegyzetelhetsz és aktívan részt vehetsz a beszélgetésben.\nAz alkalmat egy Őselem meditáció zárja\, amely segít az elmélyülésben és belső egyensúlyod megtalálásában.\n\nNincs szükség előzetes tudásra – csak nyitottságra és kíváncsiságra!\n\nAhhoz\, hogy elkészíthessem a születési képletedet\, küldd el a neved\, születési időpontodat: óra\, perc (ha nem tudod nem probléma) és születési helyedet az alábbi linkre:\n http://sivadonekrisztina.hu/adatok_keplethez.html\n\nKészüljünk együtt az előtted álló élethelyzetekre!\n\nTovábbi információ: www.sivadonekrisztina.hu\n\nSzeretettel várlak!\n\nHelyszín: TÉR Központ\, Piros teremRészvételi díj: 5.900 Ft
URL:https://www.terben.hu/program/asztrokor-sivadone-krisztinaval-7/
LOCATION:Tér Központ – Piros terem
ATTACH;FMTTYPE=image/jpeg:https://www.terben.hu/wp-content/uploads/2025/07/Sivadone-Krisztina.jpg
END:VEVENT
BEGIN:VEVENT
DTSTART;TZID=UTC:20251202T180000
DTEND;TZID=UTC:20251202T193000
DTSTAMP:20260420T093304
CREATED:20250908T094357Z
LAST-MODIFIED:20250908T094357Z
UID:10000060-1764698400-1764703800@www.terben.hu
SUMMARY:Maszkok a párkapcsolatban - Dr. Tapolyai Emőke előadása
DESCRIPTION:Mindannyian hordunk maszkokat\, többnyire átmeneti küzdelmeink eszközeiként. De vannak\, akiknek szokásukká vált maszkokban élni. Viselünk-e „boldog” maszkot? Vagy talán a „vicces” maszkot kedveljük? Vagy netán a „tökéletes barátnő”\, vagy a „megértő férj” maszkját igazgatjuk nap mint nap? Felvettük-e kapcsolatunkhoz a nekünk tetsző álarcunkat? \nIllúziónk álarcai mögött élünk vagy merünk őszinték\, hitelesek\, önmagunk lenni? Átmenetileg talán jobb érzés álarcban lenni\, de ha az álarc marad\, az érzés is növekszik\, miszerint nem érdemes önmagunkat felvállalni. \nMinél tovább viselünk egy álarcot\, annál nehezebb nélküle létezni\, annál nehezebb sebezhetővé válni\, s ezáltal annál nehezebb intim\, bensőséges kapcsolatban élni. \nAz előadás célja megpiszkálni álarcainkat\, melyek már jól illeszkednek\, hogy merjünk elindulni egy hiteles\, szabad egyén és a bensőséges kapcsolatok felé.
URL:https://www.terben.hu/program/maszkok-a-parkapcsolatban-dr-tapolyai-emoke-eloadasa/
LOCATION:Tér központ – Narancs moziterem\, Sóstói út 70.\, Nyíregyháza\, Szabolcs-Szatmár-Bereg vármegye\, 4400\, Hungary
CATEGORIES:Önismeret,Párkapcsolat
ATTACH;FMTTYPE=image/jpeg:https://www.terben.hu/wp-content/uploads/2025/09/maszkok.jpg
END:VEVENT
BEGIN:VEVENT
DTSTART;TZID=UTC:20251206T170000
DTEND;TZID=UTC:20251206T183000
DTSTAMP:20260420T093304
CREATED:20251010T102925Z
LAST-MODIFIED:20251125T081513Z
UID:10000070-1765040400-1765045800@www.terben.hu
SUMMARY:Festménykiállítás – Natalie Forrester: Colours of Ulysses
DESCRIPTION:„Miért várnánk arra az életre\, amire igazán vágyunk?” – Natalie Forrester \nNatalie Forrester ír festőművész\, aki jelenleg Sóstóhegyen él férjével és kisfiával\, legújabb alkotásait mutatja be Colours of Ulysses című sorozatából. \nA projekt James Joyce Ulysses című regényéből merít inspirációt\, és célja\, hogy a könyv mind a 933 oldalához készüljön egy-egy festmény. Az eseményen az első 100 mű legújabb darabjai lesznek láthatók – a színek\, történetek és érzések különleges utazásra hívnak minden látogatót. \nNatalie művészetét az anyaság\, a természet közelsége\, a menopauza élménye és az ír kultúrához való kötődés formálta. Munkáiban az introspekció és a színek terápiás ereje találkozik – minden ecsetvonás egy újabb lépés a gyógyulás és az önkifejezés útján. \n„A festés számomra aktív meditáció. Segít feldolgozni az érzelmeket\, megnyugtatja az idegrendszert.” – vallja Natalie. \nCsatlakozz hozzánk egy inspiráló estére\, ahol az Írország ihlette színek és a sóstói fények találkoznak. \nKönnyű zene\, beszélgetés\, művészet – és egy pohár bor a közösség melegében. \nIdőpont: 2025. december 6. (szombat)\, 17:00\nHelyszín: T.É.R. Központ – Nyíregyháza\, Sóstói út 70. \nA belépés díjmentes.
URL:https://www.terben.hu/program/festmenykiallitas-natalie-forrester-colours-of-ulysses/
LOCATION:Tér Központ – Türkiz terem
ATTACH;FMTTYPE=image/png:https://www.terben.hu/wp-content/uploads/2025/10/Natalie_Forrseter_FESTC389NY_KIC381LLC38DTC381S.png
END:VEVENT
BEGIN:VEVENT
DTSTART;TZID=UTC:20251229T190000
DTEND;TZID=UTC:20251229T203000
DTSTAMP:20260420T093304
CREATED:20251015T130706Z
LAST-MODIFIED:20251015T130740Z
UID:10000071-1767034800-1767040200@www.terben.hu
SUMMARY:A TITOK - Egy este Danny Blue-val
DESCRIPTION:Egy találkozás\, megannyi titok \nLépd át a lehetetlen határát ✨ és less be a titkok világába! Találkozz Danny Blue-val\, Magyarország legismertebb mentalistájával egy különleges estére\, és légy a szemtanúja ️\, ahogy a titkok feltárulnak előtted!\nFedezd fel a Titkot – Egy élmény\, ami mindent megváltoztat! \nMi vár rád az estén? \nA Titok egy bensőséges és lebilincselő élmény \, ahol Danny Blue\, Magyarország legismertebb mentalistája\, megmutatja\, hogy minden gondolat és érzés lenyomata ott rejlik körülöttünk – csak tudni kell olvasni belőle ✨. \n️ Jegyek és Program \nA Titok egy igazán exkluzív élmény \, ahol a helyek száma korlátozott ❗. Ez lehetővé teszi\, hogy minden résztvevő teljes figyelmet kapjon \, és személyre szabott módon élje át Danny Blue lenyűgöző műsorát ‍♂️.\nTÉR Központ– a helyszín \nA T.É.R. Központ egyszerre rendezvényhelyszín\, elvonuló- és képző központ\, ahol a programok a Tudatosság\, Éberség és Rezonancia jegyében valósulnak meg. Egyedülálló atmoszférája ️ tökéletesen illeszkedik A Titok előadás ámulatba ejtő élményéhez\, így garantálva\, hogy minden pillanat egy felejthetetlen felfedezés lesz . \nVedd meg a jegyed még ma!
URL:https://www.terben.hu/program/a-titok-egy-este-danny-bule-val/
LOCATION:Tér központ – Narancs moziterem\, Sóstói út 70.\, Nyíregyháza\, Szabolcs-Szatmár-Bereg vármegye\, 4400\, Hungary
ATTACH;FMTTYPE=image/jpeg:https://www.terben.hu/wp-content/uploads/2025/10/557674697_1360900682070856_7569821955515418865_n.jpg
END:VEVENT
END:VCALENDAR