BEGIN:VCALENDAR
VERSION:2.0
PRODID:-//T.É.R. Központ - Tudatosság - Éberség - Rezonancia - ECPv6.10.3//NONSGML v1.0//EN
CALSCALE:GREGORIAN
METHOD:PUBLISH
X-WR-CALNAME:T.É.R. Központ - Tudatosság - Éberség - Rezonancia
X-ORIGINAL-URL:https://www.terben.hu
X-WR-CALDESC:Events for T.É.R. Központ - Tudatosság - Éberség - Rezonancia
REFRESH-INTERVAL;VALUE=DURATION:PT1H
X-Robots-Tag:noindex
X-PUBLISHED-TTL:PT1H
BEGIN:VTIMEZONE
TZID:UTC
BEGIN:STANDARD
TZOFFSETFROM:+0000
TZOFFSETTO:+0000
TZNAME:UTC
DTSTART:20260101T000000
END:STANDARD
END:VTIMEZONE
BEGIN:VEVENT
DTSTART;TZID=UTC:20260509T110000
DTEND;TZID=UTC:20260509T190000
DTSTAMP:20260423T133603
CREATED:20260331T093914Z
LAST-MODIFIED:20260331T120723Z
UID:10000109-1778324400-1778353200@www.terben.hu
SUMMARY:Önismereti Nyílt Nap: hozzáférés a belső erődhöz
DESCRIPTION:Sokan érezzük úgy\, hogy a harmónia kedvéért feláldozzuk a saját igényeinket. De vajon miért mondunk igent\, amikor nemet szeretnénk? Miért hallgatunk\, amikor szólnunk kellene? Ezen a nyílt napon nem csupán elméleti válaszokat kapsz\, hanem megtapasztalhatod\, hogyan válhatsz képessé az egyenes\, mégis kapcsolódó önképviseletre. \nIdőpont: 2026. május 9. | 11:00 – 19:00 \nHelyszín: TÉR Központ (Nyíregyháza\, Sóstói út 70.) \nAz Egészség EGÉSZen Alapítvány szervezésével és közreműködésével. \nA rendezvény ingyenes\, de regisztrációhoz kötött. \n \n PROGRAM:\n  \n11:00 – 12:30: „Határaid megszületése – kapcsolat önmagaddal” – Kun Szilvi \, integrál szemléletű önismereti csoportvezető\, tréner \nSokan érezzük úgy\, hogy a harmónia kedvéért feláldozzuk a saját igényeinket. De vajon miért mondunk igent\, amikor nemet szeretnénk? Miért hallgatunk\, amikor szólnunk kellene? Ezen a nyílt napon nem csupán elméleti válaszokat kapsz\, hanem megtapasztalhatod\, hogyan válhatsz képessé az egyenes\, mégis kapcsolódó önképviseletre. \n12:30 – 13:30: ebédszünet. \n13:30 – 16:30: Hogyan bánj a határaiddal – workshop Kun Szilvivel.  Intenzív\, mozgásos gyakorlatok\, ahol a testen keresztül tapasztalod meg a saját határaidat és azok védelmét. \n17.00 – 17.50: „A belső erő elfojtása személyiség szinten” – Horváth Ági\, integrál tanácsadó\, a T.É.R Központ alapítja. \nGyerekkorunkban sokan megtanuljuk\, hogy a harag veszélyes és nem elfogadható érzés. A családi minták\, a neveltetésünk üzenetei\, a kulturális és vallási normák gyakran azt erősítik\, hogy az alkalmazkodás biztonságosabb\, szerethetőbb\, mint az önképviselet. Ilyenkor azonban nem csak egy érzelem szorul a háttérbe\, hanem a belső erő is\, amely segít határokat húzni és hitelesen jelen lenni a kapcsolatainkban. \nAz előadás integrál szemléletben mutatja be azt\, hogy a gyerekkor egymást követő fejlődési szakaszaiban hogyan alakul ki a konfliktuskerülés\, a túlzott megfelelés\, ezáltal a belső erő visszatartása. \nAz előadás segít megérteni\, hogyan válhat a harag romboló feszültség helyett tudatos\, építő belső erővé. \n18:00 – 19:00: Kiss Anita- hangfürdő vezető. Hangtálas relaxáció 60 percben: “Belső felszabadulás” a hangok útján.
URL:https://www.terben.hu/program/onismereti-nyilt-nap-hozzaferes-a-belso-erodhoz/
LOCATION:Tér központ – Narancs moziterem\, Sóstói út 70.\, Nyíregyháza\, Szabolcs-Szatmár-Bereg vármegye\, 4400\, Hungary
CATEGORIES:Önismeret
ATTACH;FMTTYPE=image/png:https://www.terben.hu/wp-content/uploads/2026/03/onismereti-nyilt-nap-2.png
END:VEVENT
BEGIN:VEVENT
DTSTART;TZID=UTC:20261010T140000
DTEND;TZID=UTC:20261010T210000
DTSTAMP:20260423T133603
CREATED:20260126T090553Z
LAST-MODIFIED:20260416T084522Z
UID:10000082-1791640800-1791666000@www.terben.hu
SUMMARY:Ingyenes Nyílt Nap a Tudatosságod Felé
DESCRIPTION:Időpont: 2026. október 10. 14:00 – 21:00 \nHelyszín: TÉR Központ (4400 Nyíregyháza\, Sóstói út 70.) \nA részvétel ingyenes\, de regisztrációhoz kötött. \n \nA korábban regisztráltak jelentkezése továbbra is érvényes. Amennyiben mégsem tudnak részt venni\, kérjük jelezzék a hello@terben.hu e-mail címen. \n\nAz Egészség EGÉSZen Alapítvány szervezésével és közreműködésével. \n\nProgram\n  \n14:00 – 15:30: Előadás: A személyes boldogság elérése a rezgésszint emelésével.\nElőadó: Dr. Dittrich Ernő\, műszaki tudományok doktora\, a Pécsi Tudományegyetem Környezetmérnök Tanszékének oktatója\, kutató\, feltaláló\, vezető tervező és műszaki szakértő. \n15:30 – 16:00: Szünet\, kérdések\, könyvdedikálás. \n16:00 – 17:30: Gyakorlatokkal egybekötött foglalkozás: Gyakorlati technikák a személyes rezgésszint emelésére.\nVezeti: Dr. Dittrich Ernő. \n17:30 – 18:00: Szünet\, kérdések\, könyvdedikálás. \n18:00 – 19:30: Előadás: A csoportos békemeditációk csodálatos ereje.\nElőadó: Dr. Dittrich Ernő. \n18:00 – 19:30: Előadás: A tudatosság testbe és lélekbe érkező mélyítése a családállítás rendszerén keresztül.\nElőadó: Magera Ildikó\, lélekgyógyász. \n18:00 – 19:30: Előadás: A láthatatlan hűségek felismerése a családi tudatmezőben. Kinek az életét éljük valójában? Tudattalan családi lojalitások\, ismétlődő sorsminták.\nElőadó: Szilágyi-Bécsi Tímea\, executive coach\, munka- és szervezetpszichológus. \n19:30 – 20:22: Szünet\, kérdések\, könyvdedikálás. \n20:22 – 21:00: Közös békemeditáció. \nVezeti: Dr. Dittrich Ernő.
URL:https://www.terben.hu/program/ingyenes-nyilt-nap-a-tudatossagod-fele/
LOCATION:Tér központ – Narancs moziterem\, Sóstói út 70.\, Nyíregyháza\, Szabolcs-Szatmár-Bereg vármegye\, 4400\, Hungary
CATEGORIES:Önismeret
ATTACH;FMTTYPE=image/png:https://www.terben.hu/wp-content/uploads/2026/01/Esemeny-18.png
END:VEVENT
END:VCALENDAR