BEGIN:VCALENDAR
VERSION:2.0
PRODID:-//T.É.R. Központ - Tudatosság - Éberség - Rezonancia - ECPv6.10.3//NONSGML v1.0//EN
CALSCALE:GREGORIAN
METHOD:PUBLISH
X-WR-CALNAME:T.É.R. Központ - Tudatosság - Éberség - Rezonancia
X-ORIGINAL-URL:https://www.terben.hu
X-WR-CALDESC:Events for T.É.R. Központ - Tudatosság - Éberség - Rezonancia
REFRESH-INTERVAL;VALUE=DURATION:PT1H
X-Robots-Tag:noindex
X-PUBLISHED-TTL:PT1H
BEGIN:VTIMEZONE
TZID:UTC
BEGIN:STANDARD
TZOFFSETFROM:+0000
TZOFFSETTO:+0000
TZNAME:UTC
DTSTART:20260101T000000
END:STANDARD
END:VTIMEZONE
BEGIN:VEVENT
DTSTART;TZID=UTC:20260207T180000
DTEND;TZID=UTC:20260207T200000
DTSTAMP:20260421T012226
CREATED:20251031T112157Z
LAST-MODIFIED:20251201T092238Z
UID:10000073-1770487200-1770494400@www.terben.hu
SUMMARY:Szőnyi Ferenc: TransCanada Ultra - Filmvetítés és közönségtalálkozó
DESCRIPTION:2026. február 7-én újra ellátogat hozzánk Szőnyi Ferenc\, a magyar ultratriatlon legenda!\nEzen az estén bemutatja legújabb filmjét\, a TransCanada Ultra-t\, amely után 60 perces közönségtalálkozó következik\, ahol személyesen is kérdezhetsz tőle! \nA film egy elképesztő történetet mesél el:\nEgy magyar amatőr sportolóról\, aki nem ismer lehetetlent. Futva\, kerékpározva\, triatlonban – mindig a határait feszegetve\, sőt\, újakat írva.\nA TransCanada Ultra című dokumentumfilm bemutatja\, hogyan teljesít Szőnyi Ferenc egy világrekorddal a világ leghosszabb ultraversenyén.\nEgy értő\, önzetlen filmes\, Sárospataki Albert segítségével\, és a MindfreeK Productions csapatának munkájával bepillantást kapunk abba\, hogyan válik a lehetetlen lehetségessé. \nA filmről:\nA MindfreeK Productions bemutatja\na Granwin Europa forgalmazásában \nSzőnyi Ferenc: TransCanada Ultra\nExecutive producer: Sárospataki Albert\nProducer: Makrai Balázs\nRendező: Haris Péter
URL:https://www.terben.hu/program/szonyi-ferenc-transcanada-ultra-filmvetites-es-kozonsegtalalkozo/
LOCATION:Tér központ – Narancs moziterem\, Sóstói út 70.\, Nyíregyháza\, Szabolcs-Szatmár-Bereg vármegye\, 4400\, Hungary
CATEGORIES:Életmód,Önismeret
ATTACH;FMTTYPE=image/png:https://www.terben.hu/wp-content/uploads/2025/10/szonyi_ujidopont_2026feb.png
END:VEVENT
BEGIN:VEVENT
DTSTART;TZID=UTC:20260226T170000
DTEND;TZID=UTC:20260226T200000
DTSTAMP:20260421T012226
CREATED:20260224T081013Z
LAST-MODIFIED:20260224T081013Z
UID:10000095-1772125200-1772136000@www.terben.hu
SUMMARY:Családfelállítás a TÉR Központban
DESCRIPTION:A képzeletünkben furcsa képek élnek a két nagy élettémáról: a szerelemről és a párkapcsolatról: képek arról\, hogy milyen legyen a társam\, hogyan érezzem magam vele és hogyan keríti hatalmába\, hogyan változtatja meg a szerelem és a párkapcsolat az életemet\, valamint sok minden mást. Bármilyen csodálatosnak tűnnek is azonban ezek az elképzelések és képek\, semmi közük azokhoz a folyamatokhoz\, amelyek aztán ténylegesen végbemennek a szerelem és párkapcsolat mélyén és amelyek valódi hatást gyakorolnak.\nKülönbséget kell tegyünk a szerelem és párkapcsolat előterében jelen levő elemek\, valamint a háttérben működő erők között\, amelyek gyakran láthatatlan bábjátékosként mozgatják a párkapcsolati szálainkat. \nAz előtérben először is ott állnak a vágyak\, a remények: ott van az igyekezetünk\, hogy csak jót akarunk\, hogy adni kapni szeretnénk\, hogy készek vagyunk áldozatra\, és hogy (akár három sikertelen kapcsolat után) el is határoztuk\, hogy bizonyos kérdésekben megváltozunk.\nAz előtérnek ezek az elemei többé-kevésbé ismertek és érthetőek is a számunkra. Az esetek legnagyobb részében azonban egyáltalán nem ismerjük a háttérben működő erőket és még ha sejtjük is (vagy elméletben ismerjük)\, tudatosan akkor sem befolyásolhatjuk és nem változtathatjuk meg ezeket. \nPeter Orban könyve – A szeretetből fakadó erő – ezekről a háttérben működő erőkről szól\, és ezekkel találkozunk és dolgozunk a családfelállítások során is. \n……………………………… \nIdőpont: 2026. február 26-án (csütörtök) 17.00 órától – 20.00 óráig\nHelyszín: TÉR KÖZPONT Bézs terem ( Nyíregyháza Sóstói út 70)\nSaját állítás díja: 23.000 Ft (ezt megelőzően egyéni konzultáció szükséges)\nKépviselői részvétel díj: 9000 Ft \nBejelentkezés:\n06 30/ 9-631-777\nildikomagera@gmail.com \nFontos!!\nA családfelállítás nem helyettesíti a pszichoterápiát.\nA csoportban való részvétel feltétele\, hogy a Résztvevő a jelentkezésével egyidejűleg vállalja önmagáért a felelősséget és ne szenvedjen pszichés betegségekben.\nSzeretettel hívok Mindenkit… \nMagera Ildikó
URL:https://www.terben.hu/program/csaladfelallitas-a-ter-kozpontban-2/
LOCATION:Bézs Terem
CATEGORIES:Önismeret
ATTACH;FMTTYPE=image/png:https://www.terben.hu/wp-content/uploads/2026/02/Magera-Il.-01.png
END:VEVENT
END:VCALENDAR