BEGIN:VCALENDAR
VERSION:2.0
PRODID:-//T.É.R. Központ - Tudatosság - Éberség - Rezonancia - ECPv6.10.3//NONSGML v1.0//EN
CALSCALE:GREGORIAN
METHOD:PUBLISH
X-ORIGINAL-URL:https://www.terben.hu
X-WR-CALDESC:Events for T.É.R. Központ - Tudatosság - Éberség - Rezonancia
REFRESH-INTERVAL;VALUE=DURATION:PT1H
X-Robots-Tag:noindex
X-PUBLISHED-TTL:PT1H
BEGIN:VTIMEZONE
TZID:UTC
BEGIN:STANDARD
TZOFFSETFROM:+0000
TZOFFSETTO:+0000
TZNAME:UTC
DTSTART:20260101T000000
END:STANDARD
END:VTIMEZONE
BEGIN:VEVENT
DTSTART;TZID=UTC:20260508T170000
DTEND;TZID=UTC:20260508T200000
DTSTAMP:20260420T084106
CREATED:20260413T075940Z
LAST-MODIFIED:20260413T075940Z
UID:10000110-1778259600-1778270400@www.terben.hu
SUMMARY:Olasz Élményfőzés
DESCRIPTION:Szeretettel várunk egy különleges\, exkluzív élményfőzésre\, ahol a gasztronómia\, a tanulás és a közösségi élmény tökéletes harmóniában találkozik.\nEz az este több mint egy főzőkurzus – egy igazi olasz kulináris utazás\, ahol az autentikus ízek\, illatok és konyhai technikák kelnek életre. \nOrosz László séf vezetésével közösen készítjük el az est menüsorát\, lépésről lépésre. Nemcsak az ételek elkészítését sajátíthatod el\, hanem profi konyhai praktikákat és technikákat is tanulsz\, amelyeket otthon is könnyedén alkalmazhatsz. \nA közös főzés után együtt fogyasztjuk el az elkészült fogásokat\, kellemes\, inspiráló hangulatban. \nIdőpont: május 8. (péntek) 17:00–20:00\nHelyszín: TÉR Központ \nAz este menüje:\nElőétel: Édeskömény–(vér)naranccsaláta pirított dióval\nFőétel: Erdei gombás pappardelle tokaszalonnával és krémes gombamártással\nDesszert: Citromos ricotta mousse pirított mandulával és narancsos mézzel \nAjándék welcome drink minden résztvevőnek \nRészvételi díj: bruttó 23.900 Ft / fő \nLegyél akár gyakorlott a konyhában\, akár most fedezed fel a főzés örömét\, ez az este garantáltan inspiráló\, tanulságos és élményekkel teli lesz. \nHa szereted a minőségi alapanyagokat\, az olasz konyha kifinomult ízeit és a jó társaságot\, itt a helyed! \nFőzz\, tanulj\, kóstolj – és élvezd az olasz életérzést egy különleges estén.\nEz az élmény nemcsak magadnak szól\, hanem tökéletes ajándék is lehet\, ami maradandó emlékké válik.
URL:https://www.terben.hu/program/olasz-elmenyfozes/
LOCATION:TÉR konyha
CATEGORIES:élményfőzés
ATTACH;FMTTYPE=image/png:https://www.terben.hu/wp-content/uploads/2026/04/orosz-laszlo-olasz-2.png
END:VEVENT
BEGIN:VEVENT
DTSTART;TZID=UTC:20260516T170000
DTEND;TZID=UTC:20260516T200000
DTSTAMP:20260420T084106
CREATED:20260420T073918Z
LAST-MODIFIED:20260420T073918Z
UID:10000112-1778950800-1778961600@www.terben.hu
SUMMARY:Mentesen is mennyei: Glutén-\, cukor- és laktózmentes gasztro workshop
DESCRIPTION:Fedezd fel\, milyen az\, amikor a mentes konyha nem kompromisszum\, hanem valódi élmény!\nEzen az estén Tóth Judit táplálkozási tanácsadó vezetésével új szemléletben ismerheted meg az egészségtudatos főzést – inspiráló\, ízekben gazdag és meglepően egyszerű formában. \nAz elkészített fogások glutén-\, cukor- és laktózmentesek\, alacsony szénhidráttartalmú\, mégis magas rosttartalmú alapanyagokból készülnek. Nemcsak különleges gasztroélményt nyújtanak\, hanem tudatos támogatást is adnak az egészségmegőrzéshez. \nAmit közösen készítünk:\n• Gluténmentes sajtos pogácsa\n• Csicseriborsóval töltött édesburgonya\n• Lisztmentes piskótatekercs tejszínes gyümölcskrémmel \nSokan gondolják\, hogy a mentes ételek elkészítése bonyolult vagy drága – ez az este megmutatja\, hogy lehet egyszerű\, gyors és költséghatékony is. \nAz életmódváltás nem csak akkor fontos\, amikor már probléma van – hanem minden nap\, amikor döntünk magunkról. \nA 3 órás program során:\n• welcome drink\n• receptfüzet ajándékba\n• gyakorlati és elméleti tippek az egészséges étkezéshez\n• közös főzés és kóstolás \nHa szeretnél új alapanyagokat megismerni\, biztos tudást szerezni\, és megtapasztalni\, hogy a mentes konyha is lehet igazán finom és laktató\, itt a helyed! \n  \nIdőpont: 2026. május 16. 17:00–20:00\nHelyszín: TÉR Központ (Nyíregyháza\, Sóstói út 70.)\nRészvételi díj: 21.900 Ft / fő
URL:https://www.terben.hu/program/mentesen-is-mennyei-gluten-cukor-es-laktozmentes-gasztro-workshop-2/
LOCATION:TÉR konyha
CATEGORIES:élményfőzés
ATTACH;FMTTYPE=image/png:https://www.terben.hu/wp-content/uploads/2026/04/T.J-02.png
END:VEVENT
END:VCALENDAR