BEGIN:VCALENDAR
VERSION:2.0
PRODID:-//T.É.R. Központ - Tudatosság - Éberség - Rezonancia - ECPv6.10.3//NONSGML v1.0//EN
CALSCALE:GREGORIAN
METHOD:PUBLISH
X-WR-CALNAME:T.É.R. Központ - Tudatosság - Éberség - Rezonancia
X-ORIGINAL-URL:https://www.terben.hu
X-WR-CALDESC:Events for T.É.R. Központ - Tudatosság - Éberség - Rezonancia
REFRESH-INTERVAL;VALUE=DURATION:PT1H
X-Robots-Tag:noindex
X-PUBLISHED-TTL:PT1H
BEGIN:VTIMEZONE
TZID:UTC
BEGIN:STANDARD
TZOFFSETFROM:+0000
TZOFFSETTO:+0000
TZNAME:UTC
DTSTART:20260101T000000
END:STANDARD
END:VTIMEZONE
BEGIN:VEVENT
DTSTART;TZID=UTC:20260425T170000
DTEND;TZID=UTC:20260425T200000
DTSTAMP:20260425T104542
CREATED:20260318T084009Z
LAST-MODIFIED:20260330T073948Z
UID:10000105-1777136400-1777147200@www.terben.hu
SUMMARY:Sushi Workshop Tóth Péterrel
DESCRIPTION:Szeretettel várunk egy különleges\, exkluzív sushi workshopra\, ahol a kifinomult ízek\, a tanulás élménye és a közös alkotás öröme találkozik egy inspiráló gasztronómiai kalandban. \nEz az este több mint egyszerű főzés – egy lendületes\, mégis elegáns kulináris élmény\, ahol minőségi alapanyagokból\, szakértő vezetése mellett sajátíthatod el a sushi készítésének művészetét\, miközben lépésről lépésre állítjuk össze az est különleges menüsorát. \nA workshopot Tóth Péter\, a Sushi Place és az Ázsia ABC tulajdonosa vezeti\, aki betekintést nyújt a sushi világába. Megismerheted a sushi készítés alapjait\, a megfelelő alapanyagok kiválasztását\, a rizs tökéletes elkészítését\, valamint azokat a technikákat\, amelyekkel látványos és harmonikus ízvilágú fogásokat készíthetsz. \nAz est menüje: \nTradicionális leves\nJapán miso leves \nSushi válogatás – 4 különböző típus elkészítésével\nHosomaki (egyszerű maki tekercs)\nFutomaki (több összetevős tekercs)\nUramaki (kifordított tekercs)\nNigiri \nDesszert\nBanán tempura \nA közös főzés végén természetesen együtt kóstoljuk meg az elkészült fogásokat\, kötetlen\, inspiráló hangulatban. \nIdőpont:\n2026. április 25. 17:00–20:00 \nHelyszín:\nNyíregyháza\, TÉR Központ \nRészvételi díj: bruttó 24900 Ft/fő \nHa szereted az izgalmas ízpárosításokat\, szívesen kipróbálnád magad a sushi készítésben\, és egy különleges gasztronómiai élményt keresel\, itt a helyed!
URL:https://www.terben.hu/program/sushi-workshop-toth-peterrel-2/
LOCATION:TÉR konyha
CATEGORIES:élményfőzés
ATTACH;FMTTYPE=image/png:https://www.terben.hu/wp-content/uploads/2026/03/sushi-2-1.png
END:VEVENT
BEGIN:VEVENT
DTSTART;TZID=UTC:20260425T180000
DTEND;TZID=UTC:20260425T193000
DTSTAMP:20260425T104542
CREATED:20260316T085201Z
LAST-MODIFIED:20260316T085608Z
UID:10000103-1777140000-1777145400@www.terben.hu
SUMMARY:Elek Péter önálló estje Nyíregyházán!
DESCRIPTION:Április 25-én 18 órakor Elek Péter önálló estje „Lehetek őszinte?” címmel Nyíregyházán\, T.É.R. Központban! \n———–\nAzt mondják\, ha egy problémával kapcsolatban végre őszinték vagyunk magunkhoz\, akkor félig már meg is oldottuk.\nPersze\, hogy melyik felét\, azt nem tudjuk. A nehezebbet? A kínosabbikat? A költségesebbiket? Fogalmunk sincs. \nSzó lesz párkapcsolati játszmákról\, férfi-női őszintétlenkedésekről\, jó és rossz ízlésről és természetesen zenéről. \nA legnagyobb tabuk sincsenek biztonságban és ha a problémákat feloldoznunk nem is sikerül\, legalább röhögünk rajtuk egyet. (És így már félig meg is oldottuk?) \nElek Péter legújabb önálló estjében a tőle megszokott stílusban dolgozza fel ezeket humorosan\, korábban még sohasem hallott vadonatúj történetek\, viccek formájában. \nJöjjenek el és nevessenek és kapjanak válaszokat\, de természetesen csak azután\, miután elhangzott a legfontosabb kérdés: „Lehetek őszinte?” \n———– \nJegyek kaphatók a Sky Travel Utazási Irodában (Szabadság tér 4.)\, a Ticketline Jegyirodában (Benczúr tér 6.)\, valamint a https://dumaszinhaz.jegy.hu/ticketsearch/city/nyiregyhaza oldalon. \n(A nem dumaszinhaz.jegy.hu-n vásárolt jegyekért kezelési költséget számolhatnak fel!) \nAz előadást keresleti alapon árazzuk! További tájékoztatásért\, kérjük\, látogassanak el az ehhez kapcsolódó információs oldalunkra: https://dumaszinhaz.hu/kereslet-alapu-dinamikus-arazas/ \nKapcsolat: ugyfelszolgalatvidek@dumaszinhaz.hu
URL:https://www.terben.hu/program/elek-peter-onallo-estje-nyiregyhazan/
LOCATION:Tér központ – Narancs moziterem\, Sóstói út 70.\, Nyíregyháza\, Szabolcs-Szatmár-Bereg vármegye\, 4400\, Hungary
ATTACH;FMTTYPE=image/png:https://www.terben.hu/wp-content/uploads/2026/03/Elek-Peter.png
END:VEVENT
END:VCALENDAR