BEGIN:VCALENDAR
VERSION:2.0
PRODID:-//T.É.R. Központ - Tudatosság - Éberség - Rezonancia - ECPv6.10.3//NONSGML v1.0//EN
CALSCALE:GREGORIAN
METHOD:PUBLISH
X-WR-CALNAME:T.É.R. Központ - Tudatosság - Éberség - Rezonancia
X-ORIGINAL-URL:https://www.terben.hu
X-WR-CALDESC:Events for T.É.R. Központ - Tudatosság - Éberség - Rezonancia
REFRESH-INTERVAL;VALUE=DURATION:PT1H
X-Robots-Tag:noindex
X-PUBLISHED-TTL:PT1H
BEGIN:VTIMEZONE
TZID:UTC
BEGIN:STANDARD
TZOFFSETFROM:+0000
TZOFFSETTO:+0000
TZNAME:UTC
DTSTART:20250101T000000
END:STANDARD
END:VTIMEZONE
BEGIN:VEVENT
DTSTART;TZID=UTC:20251206T170000
DTEND;TZID=UTC:20251206T183000
DTSTAMP:20260420T094748
CREATED:20251010T102925Z
LAST-MODIFIED:20251125T081513Z
UID:2171-1765040400-1765045800@www.terben.hu
SUMMARY:Festménykiállítás – Natalie Forrester: Colours of Ulysses
DESCRIPTION:„Miért várnánk arra az életre\, amire igazán vágyunk?” – Natalie Forrester \nNatalie Forrester ír festőművész\, aki jelenleg Sóstóhegyen él férjével és kisfiával\, legújabb alkotásait mutatja be Colours of Ulysses című sorozatából. \nA projekt James Joyce Ulysses című regényéből merít inspirációt\, és célja\, hogy a könyv mind a 933 oldalához készüljön egy-egy festmény. Az eseményen az első 100 mű legújabb darabjai lesznek láthatók – a színek\, történetek és érzések különleges utazásra hívnak minden látogatót. \nNatalie művészetét az anyaság\, a természet közelsége\, a menopauza élménye és az ír kultúrához való kötődés formálta. Munkáiban az introspekció és a színek terápiás ereje találkozik – minden ecsetvonás egy újabb lépés a gyógyulás és az önkifejezés útján. \n„A festés számomra aktív meditáció. Segít feldolgozni az érzelmeket\, megnyugtatja az idegrendszert.” – vallja Natalie. \nCsatlakozz hozzánk egy inspiráló estére\, ahol az Írország ihlette színek és a sóstói fények találkoznak. \nKönnyű zene\, beszélgetés\, művészet – és egy pohár bor a közösség melegében. \nIdőpont: 2025. december 6. (szombat)\, 17:00\nHelyszín: T.É.R. Központ – Nyíregyháza\, Sóstói út 70. \nA belépés díjmentes.
URL:https://www.terben.hu/program/festmenykiallitas-natalie-forrester-colours-of-ulysses/
LOCATION:Tér Központ – Türkiz terem
ATTACH;FMTTYPE=image/png:https://www.terben.hu/wp-content/uploads/2025/10/Natalie_Forrseter_FESTC389NY_KIC381LLC38DTC381S.png
END:VEVENT
END:VCALENDAR