BEGIN:VCALENDAR
VERSION:2.0
PRODID:-//T.É.R. Központ - Tudatosság - Éberség - Rezonancia - ECPv6.10.3//NONSGML v1.0//EN
CALSCALE:GREGORIAN
METHOD:PUBLISH
X-WR-CALNAME:T.É.R. Központ - Tudatosság - Éberség - Rezonancia
X-ORIGINAL-URL:https://www.terben.hu
X-WR-CALDESC:Events for T.É.R. Központ - Tudatosság - Éberség - Rezonancia
REFRESH-INTERVAL;VALUE=DURATION:PT1H
X-Robots-Tag:noindex
X-PUBLISHED-TTL:PT1H
BEGIN:VTIMEZONE
TZID:UTC
BEGIN:STANDARD
TZOFFSETFROM:+0000
TZOFFSETTO:+0000
TZNAME:UTC
DTSTART:20250101T000000
END:STANDARD
END:VTIMEZONE
BEGIN:VEVENT
DTSTART;TZID=UTC:20251109T090000
DTEND;TZID=UTC:20251109T170000
DTSTAMP:20260420T094435
CREATED:20250929T073326Z
LAST-MODIFIED:20250929T073326Z
UID:2138-1762678800-1762707600@www.terben.hu
SUMMARY:Az erőszakmentes kommunikáció alapjai
DESCRIPTION:Szeretnél őszinte\, együttműködő és kritikamentes módon kommunikálni másokkal?\nOlyan készségeket tanulnál\, amelyekkel a konfliktusok nem fenyegetésként\, hanem lehetőségként jelennek meg az életben? \nHa te is szeretnéd úgy kifejezni a véleményed hogy együtműködni akarjanak veled\, gyere gyakoroljuk együtt a kritikamentes őszinteséget\, és az empatikus jelenlétet. \nEzen a tréningen együtt fedezzük fel az Erőszakmentes Kommunikáció (EMK) alapelveit\, és gyakoroljuk az empatikus jelenlétet és a tiszteletteljes önkifejezést. \nMit kínál a nap? \n\nHogyan fogalmazd meg a nemtetszésed úgy\, hogy az építő legyen\, ne bántó\nHogyan hallgasd meg a kritika mögött rejlő szükségleteket\, és építs belőle fejlődést\nHogyan vegyél részt tiszteletteljes párbeszédben akkor is\, ha eltérnek a nézőpontok\nKonkrét\, a résztvevők által hozott élethelyzetek feldolgozása közösen\nBiztonságos\, támogató közeg\, ahol nincs kötelező megszólalás\n\nA nap során – ha igényled – megosztok olyan módszereket is\, amelyek segítenek a trénerakkreditációs folyamataidban (CNVC) részt venni. \nMaximálisan 40 főt tudunk fogadni\, hogy mindenki kellő figyelmet kapjon. \nRészvételi díj: 14.900 Ft / fő \nRegisztráció: https://rambala.hu/esemenyek/az-eroszakmentes-kommunikacio-alapjai-288 \nIdőpont: 2025. november 9.\, vasárnap\, 09:00–17:00 \nHelyszín: T.É.R. központ — 4400 Nyíregyháza\, Sóstói út 70. (Park Hotel Sóstó területe)
URL:https://www.terben.hu/program/az-eroszakmentes-kommunikacio-alapjai/
LOCATION:Tér központ – Narancs moziterem\, Sóstói út 70.\, Nyíregyháza\, Szabolcs-Szatmár-Bereg vármegye\, 4400\, Hungary
ATTACH;FMTTYPE=image/jpeg:https://www.terben.hu/wp-content/uploads/2025/09/grafika_Rambala_1.jpg
END:VEVENT
END:VCALENDAR